BEGIN:VCALENDAR
VERSION:2.0
PRODID:-//Alzheimer Gesellschaft Landkreis Altötting e. V. Selbsthilfe Demenz - ECPv6.15.20//NONSGML v1.0//EN
CALSCALE:GREGORIAN
METHOD:PUBLISH
X-WR-CALNAME:Alzheimer Gesellschaft Landkreis Altötting e. V. Selbsthilfe Demenz
X-ORIGINAL-URL:https://alzheimer-altoetting.de
X-WR-CALDESC:Veranstaltungen für Alzheimer Gesellschaft Landkreis Altötting e. V. Selbsthilfe Demenz
REFRESH-INTERVAL;VALUE=DURATION:PT1H
X-Robots-Tag:noindex
X-PUBLISHED-TTL:PT1H
BEGIN:VTIMEZONE
TZID:Europe/Berlin
BEGIN:DAYLIGHT
TZOFFSETFROM:+0100
TZOFFSETTO:+0200
TZNAME:CEST
DTSTART:20230326T010000
END:DAYLIGHT
BEGIN:STANDARD
TZOFFSETFROM:+0200
TZOFFSETTO:+0100
TZNAME:CET
DTSTART:20231029T010000
END:STANDARD
BEGIN:DAYLIGHT
TZOFFSETFROM:+0100
TZOFFSETTO:+0200
TZNAME:CEST
DTSTART:20240331T010000
END:DAYLIGHT
BEGIN:STANDARD
TZOFFSETFROM:+0200
TZOFFSETTO:+0100
TZNAME:CET
DTSTART:20241027T010000
END:STANDARD
BEGIN:DAYLIGHT
TZOFFSETFROM:+0100
TZOFFSETTO:+0200
TZNAME:CEST
DTSTART:20250330T010000
END:DAYLIGHT
BEGIN:STANDARD
TZOFFSETFROM:+0200
TZOFFSETTO:+0100
TZNAME:CET
DTSTART:20251026T010000
END:STANDARD
END:VTIMEZONE
BEGIN:VEVENT
DTSTART;TZID=Europe/Berlin:20240504T090000
DTEND;TZID=Europe/Berlin:20240504T163000
DTSTAMP:20260422T134239
CREATED:20240415T125240Z
LAST-MODIFIED:20240930T123739Z
UID:404-1714813200-1714840200@alzheimer-altoetting.de
SUMMARY:Helferkreisschulung - Teil 1
DESCRIPTION:Die Schulung bereitet auf das ehrenamtliche und nicht ehrenamtliche Erbringen von Leistungen gemäß §45a SGB XI im Rahmen verschiedener Angebote zur Unterstützung im Alltag vor und umfasst 30 UE. \nDas Konzept basiert auf den Empfehlungen des GKV-Spitzenverbandes und des Verbandes der Privaten Krankenversicherungen. \nReferentin: Frau Bürk \nWann? 9:00 Uhr bis ca. 16:30 Uhr\nWo? Herzog-Arnulf-Straße 8 – Altötting \nAnmeldung und nähere Auskünfte bei Fr. Lehner unter Tel. 08671 – 4883 und 08671 – 9849410 (AB)
URL:https://alzheimer-altoetting.de/event/helferkreisschulung-tag-1/
LOCATION:Herzog-Arnulf-Straße 8 – Altötting\, Herzog Arnulfstr. 8\, Altötting\, Bayern\, 84503\, Deutschland
CATEGORIES:Kurse
ATTACH;FMTTYPE=image/jpeg:https://alzheimer-altoetting.de/wp-content/uploads/2024/09/termin_helfer_255.jpg
END:VEVENT
END:VCALENDAR