BEGIN:VCALENDAR
VERSION:2.0
PRODID:-//Alzheimer Gesellschaft Landkreis Altötting e. V. Selbsthilfe Demenz - ECPv6.15.20//NONSGML v1.0//EN
CALSCALE:GREGORIAN
METHOD:PUBLISH
X-ORIGINAL-URL:https://alzheimer-altoetting.de
X-WR-CALDESC:Veranstaltungen für Alzheimer Gesellschaft Landkreis Altötting e. V. Selbsthilfe Demenz
REFRESH-INTERVAL;VALUE=DURATION:PT1H
X-Robots-Tag:noindex
X-PUBLISHED-TTL:PT1H
BEGIN:VTIMEZONE
TZID:Europe/Berlin
BEGIN:DAYLIGHT
TZOFFSETFROM:+0100
TZOFFSETTO:+0200
TZNAME:CEST
DTSTART:20230326T010000
END:DAYLIGHT
BEGIN:STANDARD
TZOFFSETFROM:+0200
TZOFFSETTO:+0100
TZNAME:CET
DTSTART:20231029T010000
END:STANDARD
BEGIN:DAYLIGHT
TZOFFSETFROM:+0100
TZOFFSETTO:+0200
TZNAME:CEST
DTSTART:20240331T010000
END:DAYLIGHT
BEGIN:STANDARD
TZOFFSETFROM:+0200
TZOFFSETTO:+0100
TZNAME:CET
DTSTART:20241027T010000
END:STANDARD
BEGIN:DAYLIGHT
TZOFFSETFROM:+0100
TZOFFSETTO:+0200
TZNAME:CEST
DTSTART:20250330T010000
END:DAYLIGHT
BEGIN:STANDARD
TZOFFSETFROM:+0200
TZOFFSETTO:+0100
TZNAME:CET
DTSTART:20251026T010000
END:STANDARD
END:VTIMEZONE
BEGIN:VEVENT
DTSTART;TZID=Europe/Berlin:20241122T140000
DTEND;TZID=Europe/Berlin:20241122T160000
DTSTAMP:20260422T041953
CREATED:20240530T075811Z
LAST-MODIFIED:20240530T083202Z
UID:631-1732284000-1732291200@alzheimer-altoetting.de
SUMMARY:Musikalischer Nachmittag
DESCRIPTION:Einmal im Monat haben Sie als pflegende(r) Angehörige(r) mit Ihrem betroffenen Partner die Gelegenheit\, eine schöne Zeit miteinander in einer zwanglosen Atmosphäre zu verbringen. \nInteressierte sind herzlich eingeladen.\nVon 14:00 bis 16:00 Uhr\nHerzog-Arnulf-Str. 8\n84503 Altötting \nBitte melden Sie sich dazu telefonisch bei M. Lehner unter Tel. 08671 4883 an.
URL:https://alzheimer-altoetting.de/event/musikalischer-nachmittag-6/
LOCATION:Herzog-Arnulf-Straße 8 – Altötting\, Herzog Arnulfstr. 8\, Altötting\, Bayern\, 84503\, Deutschland
CATEGORIES:Musikalischer Nachmittag
ATTACH;FMTTYPE=image/jpeg:https://alzheimer-altoetting.de/wp-content/uploads/2024/05/termin_musikabend.jpg
END:VEVENT
END:VCALENDAR