BEGIN:VCALENDAR
VERSION:2.0
PRODID:-//Alzheimer Gesellschaft Landkreis Altötting e. V. Selbsthilfe Demenz - ECPv6.15.20//NONSGML v1.0//EN
CALSCALE:GREGORIAN
METHOD:PUBLISH
X-ORIGINAL-URL:https://alzheimer-altoetting.de
X-WR-CALDESC:Veranstaltungen für Alzheimer Gesellschaft Landkreis Altötting e. V. Selbsthilfe Demenz
REFRESH-INTERVAL;VALUE=DURATION:PT1H
X-Robots-Tag:noindex
X-PUBLISHED-TTL:PT1H
BEGIN:VTIMEZONE
TZID:Europe/Berlin
BEGIN:DAYLIGHT
TZOFFSETFROM:+0100
TZOFFSETTO:+0200
TZNAME:CEST
DTSTART:20230326T010000
END:DAYLIGHT
BEGIN:STANDARD
TZOFFSETFROM:+0200
TZOFFSETTO:+0100
TZNAME:CET
DTSTART:20231029T010000
END:STANDARD
BEGIN:DAYLIGHT
TZOFFSETFROM:+0100
TZOFFSETTO:+0200
TZNAME:CEST
DTSTART:20240331T010000
END:DAYLIGHT
BEGIN:STANDARD
TZOFFSETFROM:+0200
TZOFFSETTO:+0100
TZNAME:CET
DTSTART:20241027T010000
END:STANDARD
BEGIN:DAYLIGHT
TZOFFSETFROM:+0100
TZOFFSETTO:+0200
TZNAME:CEST
DTSTART:20250330T010000
END:DAYLIGHT
BEGIN:STANDARD
TZOFFSETFROM:+0200
TZOFFSETTO:+0100
TZNAME:CET
DTSTART:20251026T010000
END:STANDARD
END:VTIMEZONE
BEGIN:VEVENT
DTSTART;TZID=Europe/Berlin:20241128T140000
DTEND;TZID=Europe/Berlin:20241128T170000
DTSTAMP:20260422T002130
CREATED:20241105T085001Z
LAST-MODIFIED:20241126T110744Z
UID:940-1732802400-1732813200@alzheimer-altoetting.de
SUMMARY:Kreativer Nachmittag
DESCRIPTION:Für Angehörige und Interessierte \nVon 14:00 bis 17:00 Uhr\nAufenthaltsraum Betreutes Wohnen\nHerzog-Arnulf-Str. 8\n84503 Altötting \nBitte melden Sie sich dazu telefonisch bei M. Lehner unter Tel. 0151 41372861 oder 08671 4883 (bitte auf AB sprechen) an.
URL:https://alzheimer-altoetting.de/event/kreativer-nachmittag-3/
LOCATION:Herzog-Arnulf-Straße 8 – Altötting\, Herzog Arnulfstr. 8\, Altötting\, Bayern\, 84503\, Deutschland
CATEGORIES:Kreativer Nachmittag
ATTACH;FMTTYPE=image/jpeg:https://alzheimer-altoetting.de/wp-content/uploads/2024/05/tb_kreativ.jpg
END:VEVENT
END:VCALENDAR