BEGIN:VCALENDAR
VERSION:2.0
PRODID:-//Alzheimer Gesellschaft Landkreis Altötting e. V. Selbsthilfe Demenz - ECPv6.15.20//NONSGML v1.0//EN
CALSCALE:GREGORIAN
METHOD:PUBLISH
X-ORIGINAL-URL:https://alzheimer-altoetting.de
X-WR-CALDESC:Veranstaltungen für Alzheimer Gesellschaft Landkreis Altötting e. V. Selbsthilfe Demenz
REFRESH-INTERVAL;VALUE=DURATION:PT1H
X-Robots-Tag:noindex
X-PUBLISHED-TTL:PT1H
BEGIN:VTIMEZONE
TZID:Europe/Berlin
BEGIN:DAYLIGHT
TZOFFSETFROM:+0100
TZOFFSETTO:+0200
TZNAME:CEST
DTSTART:20230326T010000
END:DAYLIGHT
BEGIN:STANDARD
TZOFFSETFROM:+0200
TZOFFSETTO:+0100
TZNAME:CET
DTSTART:20231029T010000
END:STANDARD
BEGIN:DAYLIGHT
TZOFFSETFROM:+0100
TZOFFSETTO:+0200
TZNAME:CEST
DTSTART:20240331T010000
END:DAYLIGHT
BEGIN:STANDARD
TZOFFSETFROM:+0200
TZOFFSETTO:+0100
TZNAME:CET
DTSTART:20241027T010000
END:STANDARD
BEGIN:DAYLIGHT
TZOFFSETFROM:+0100
TZOFFSETTO:+0200
TZNAME:CEST
DTSTART:20250330T010000
END:DAYLIGHT
BEGIN:STANDARD
TZOFFSETFROM:+0200
TZOFFSETTO:+0100
TZNAME:CET
DTSTART:20251026T010000
END:STANDARD
END:VTIMEZONE
BEGIN:VEVENT
DTSTART;TZID=Europe/Berlin:20241129T100000
DTEND;TZID=Europe/Berlin:20241129T180000
DTSTAMP:20260422T002037
CREATED:20241119T082254Z
LAST-MODIFIED:20241119T082254Z
UID:961-1732874400-1732903200@alzheimer-altoetting.de
SUMMARY:Fahrt zum schwimmenden Christkindelmarkt in Vilshofen
DESCRIPTION:Die Alzheimer Gesellschaft Landkreis Altötting e.V. organisiert am Freitag\, den 29. November 2024\, eine Fahrt zum schwimmenden Christkindelmarkt in Vilshofen. \nUnser erster Halt ist in Aldersbach. Dort kann man die Kirche besichtigen. Anschließend ist eine gemeinsame Stärkung im Aldersbacher Bräustüberl vorgesehen. Danach fahren wir weiter nach Vilshofen zum Christkindelmarkt. \nAbfahrtszeit: 10 Uhr\nAbfahrtsort:   Busbahnhof am Bahnhof Altötting\nRückkehr:      voraussichtlich 18 Uhr am Bahnhof Altötting \nUm Anmeldung wird gebeten bei Frau Lehner\, Tel. 0 15 14 / 13 72 861 oder 0 86 71 / 48 83 \nAuch Nicht–Mitglieder sind herzlich willkommen! \n 
URL:https://alzheimer-altoetting.de/event/fahrt-zum-schwimmenden-christkindelmarkt-in-vilshofen/
LOCATION:Bayern
ATTACH;FMTTYPE=image/png:https://alzheimer-altoetting.de/wp-content/uploads/2024/11/kugel.png
END:VEVENT
END:VCALENDAR