BEGIN:VCALENDAR
VERSION:2.0
PRODID:-//Alzheimer Gesellschaft Landkreis Altötting e. V. Selbsthilfe Demenz - ECPv6.15.20//NONSGML v1.0//EN
CALSCALE:GREGORIAN
METHOD:PUBLISH
X-ORIGINAL-URL:https://alzheimer-altoetting.de
X-WR-CALDESC:Veranstaltungen für Alzheimer Gesellschaft Landkreis Altötting e. V. Selbsthilfe Demenz
REFRESH-INTERVAL;VALUE=DURATION:PT1H
X-Robots-Tag:noindex
X-PUBLISHED-TTL:PT1H
BEGIN:VTIMEZONE
TZID:Europe/Berlin
BEGIN:DAYLIGHT
TZOFFSETFROM:+0100
TZOFFSETTO:+0200
TZNAME:CEST
DTSTART:20240331T010000
END:DAYLIGHT
BEGIN:STANDARD
TZOFFSETFROM:+0200
TZOFFSETTO:+0100
TZNAME:CET
DTSTART:20241027T010000
END:STANDARD
BEGIN:DAYLIGHT
TZOFFSETFROM:+0100
TZOFFSETTO:+0200
TZNAME:CEST
DTSTART:20250330T010000
END:DAYLIGHT
BEGIN:STANDARD
TZOFFSETFROM:+0200
TZOFFSETTO:+0100
TZNAME:CET
DTSTART:20251026T010000
END:STANDARD
BEGIN:DAYLIGHT
TZOFFSETFROM:+0100
TZOFFSETTO:+0200
TZNAME:CEST
DTSTART:20260329T010000
END:DAYLIGHT
BEGIN:STANDARD
TZOFFSETFROM:+0200
TZOFFSETTO:+0100
TZNAME:CET
DTSTART:20261025T010000
END:STANDARD
END:VTIMEZONE
BEGIN:VEVENT
DTSTART;TZID=Europe/Berlin:20250318T193000
DTEND;TZID=Europe/Berlin:20250318T213000
DTSTAMP:20260421T182529
CREATED:20250206T111450Z
LAST-MODIFIED:20250312T164231Z
UID:1110-1742326200-1742333400@alzheimer-altoetting.de
SUMMARY:Schreckgespenst Demenz? Nicht mit uns! - Informationen und humorvoller Workshop Demenz - Prävention Veranstalter: Kolping Altötting
DESCRIPTION:Schreckgespenst Demenz?\nNicht mit uns!\nDemenz-Prävention für die Westentasche\n  \nInformationen zum Demenz und Alzheimer-Gesellschaft (ca. 30 Minuten)\ndanach ein humorvoller\nWorkshop basierend auf neuesten wissenschaftlichen Erkenntnissen zur Prävention.\n\nInformationen zum Workshop:\n\nDie Forschung zum Thema Demenz und Prävention von Demenz\nschreitet jedes Jahr weiter voran.\n  \nAnhand aktueller Studienergebnisse ist der Workshop aufgebaut.\n  \nDenn aus Erfahrung reicht es nicht\,\nnur die Maßnahmen zu kennen\nsondern auch im Alltag sinnvoll umsetzen zu können.\n  \nWir werden uns diese Empfehlungen auf wissenschaftlicher Basis ansehen\nund Ideen entwickeln\,\nwie man das denn nun\nwirklich praktisch\nim eigenen Alltag umsetzt.\n  \nJede/r/s kann damit auch natürlich weitere Ideen entwickeln\, die für den eigenen Alltag passen.\n  \nDabei kann – wer möchte –\nauch Dinge aufmalen statt sie aufzuschreiben –\nund darum sind für diesen Fall auch\nSchreibzeug und eigene (Lieblings-)Buntstifte\nsicher eine gute Idee –\ndenn das Gehirn verarbeitet bunt und Bilder\noft leichter.\nSelbst Gemaltes und Geschriebenes bleibt eben.\n\nAm Ende steht dann eine Demenz-Prävention für die “Westentasche” –\ndie man im Alltag mitnehmen und umsetzen kann.\n\nUnd nein:\nUm Gedächtnistraining oder Methoden zum Gedächtnistraining\nwird es in diesem Workshop\nnicht gehen.\n  \nDenn es gibt noch viel mehr\,\nwas jede/r/s gegen Alzheimer oder Demenz tun kann.\n\nSchaffen wir es\, in unserem Alltag davon alles umzusetzen –\ndann würde das Risko\, Alzheimer/Demenz zu bekommen\num 40 % sinken.\n\nWas sehr viel ist und es kaum bei einer anderen Krankheit so gibt.\n\nAber wir fangen einfach mal klein an – eben für die Westentasche.\n\nUnd damit ist schon einiges gewonnen!\n\nJeder kann dabei mitmachen – sogar Kinder und Jugendliche.\nWorkshop für 9 – 99\ndenn je früher man anfängt desto besser 🙂\n\nUnd wer dies umsetzt\nwird auch noch andere positive Effekte\nbei anderen Erkrankungen beobachten.\n\nDaher: Herzliche Einladung und mitbringen:\nSchreibzeug und (Lieblings-)Buntstifte!\n \nUm Anmeldung wird gebeten wg. Material.\nReferentinnen:\nMaria Lehner (Infos) 1. Vorsitzende Alzheimer Gesellschaft Altötting e. V.\nMartina Weber (Workshop) 2. Vorsitzende Alzheimer Gesellschaft Altötting e. V.\n\nVeranstalter: Kolpingsfamilie Altötting\nAnmeldung bei Franz Steiner\, Kolping Altötting\, Telefon: 0 86 71 88 92 64
URL:https://alzheimer-altoetting.de/event/schreckgespenst-demenz-nicht-mit-uns-informationen-und-humorvoller-workshop-praevention/
LOCATION:Begegnungszentrum Altötting – BGZ\, Holzhauser Straße 25\, Altötting\, 84503\, Germany
CATEGORIES:Vortrag und Workshop
ATTACH;FMTTYPE=image/png:https://alzheimer-altoetting.de/wp-content/uploads/2025/02/Bild-Vortrag-Demenzpraevention.png
END:VEVENT
END:VCALENDAR