BEGIN:VCALENDAR
VERSION:2.0
PRODID:-//Alzheimer Gesellschaft Landkreis Altötting e. V. Selbsthilfe Demenz - ECPv6.15.20//NONSGML v1.0//EN
CALSCALE:GREGORIAN
METHOD:PUBLISH
X-WR-CALNAME:Alzheimer Gesellschaft Landkreis Altötting e. V. Selbsthilfe Demenz
X-ORIGINAL-URL:https://alzheimer-altoetting.de
X-WR-CALDESC:Veranstaltungen für Alzheimer Gesellschaft Landkreis Altötting e. V. Selbsthilfe Demenz
REFRESH-INTERVAL;VALUE=DURATION:PT1H
X-Robots-Tag:noindex
X-PUBLISHED-TTL:PT1H
BEGIN:VTIMEZONE
TZID:Europe/Berlin
BEGIN:DAYLIGHT
TZOFFSETFROM:+0100
TZOFFSETTO:+0200
TZNAME:CEST
DTSTART:20240331T010000
END:DAYLIGHT
BEGIN:STANDARD
TZOFFSETFROM:+0200
TZOFFSETTO:+0100
TZNAME:CET
DTSTART:20241027T010000
END:STANDARD
BEGIN:DAYLIGHT
TZOFFSETFROM:+0100
TZOFFSETTO:+0200
TZNAME:CEST
DTSTART:20250330T010000
END:DAYLIGHT
BEGIN:STANDARD
TZOFFSETFROM:+0200
TZOFFSETTO:+0100
TZNAME:CET
DTSTART:20251026T010000
END:STANDARD
BEGIN:DAYLIGHT
TZOFFSETFROM:+0100
TZOFFSETTO:+0200
TZNAME:CEST
DTSTART:20260329T010000
END:DAYLIGHT
BEGIN:STANDARD
TZOFFSETFROM:+0200
TZOFFSETTO:+0100
TZNAME:CET
DTSTART:20261025T010000
END:STANDARD
END:VTIMEZONE
BEGIN:VEVENT
DTSTART;TZID=Europe/Berlin:20250327T110000
DTEND;TZID=Europe/Berlin:20250327T110000
DTSTAMP:20260421T200941
CREATED:20250320T102348Z
LAST-MODIFIED:20250320T104239Z
UID:1317-1743073200-1743073200@alzheimer-altoetting.de
SUMMARY:Tages-Ausflug nach Rosenheim in die Titanic-Ausstellung
DESCRIPTION:Tages-Ausflug nach Rosenheim \nin die Titanic-Ausstellung des Lokschuppens  \nam Donnerstag\, den 27.03.2025 \n11:00 Abfahrt Bahnhof Altötting  \nca. 18:00 Ankunft in Altötting (Bahnhof)  \nAuch Nicht-Mitglieder sind herzlich willkommen und können gerne mitfahren. \nInformationen und Anmeldung bei Maria Lehner\n08671 / 4883 \noder 08671 / 9849410 (bitte auf AB sprechen) \nQuelle Bild und weitere Informationen zur Ausstellung: lokschuppen.de/titanic
URL:https://alzheimer-altoetting.de/event/tages-ausflug-nach-rosenheim-in-die-titanic-ausstellung/
LOCATION:Busbahnhof Altötting Abfahrtspunkt\, Bahnhofsplatz\, Altötting\, 84503
CATEGORIES:Ausflug
ATTACH;FMTTYPE=image/jpeg:https://alzheimer-altoetting.de/wp-content/uploads/2025/03/Website_Header_deutsch_TITANIC_902x301_px.jpg
END:VEVENT
END:VCALENDAR