BEGIN:VCALENDAR
VERSION:2.0
PRODID:-//Alzheimer Gesellschaft Landkreis Altötting e. V. Selbsthilfe Demenz - ECPv6.15.20//NONSGML v1.0//EN
CALSCALE:GREGORIAN
METHOD:PUBLISH
X-WR-CALNAME:Alzheimer Gesellschaft Landkreis Altötting e. V. Selbsthilfe Demenz
X-ORIGINAL-URL:https://alzheimer-altoetting.de
X-WR-CALDESC:Veranstaltungen für Alzheimer Gesellschaft Landkreis Altötting e. V. Selbsthilfe Demenz
REFRESH-INTERVAL;VALUE=DURATION:PT1H
X-Robots-Tag:noindex
X-PUBLISHED-TTL:PT1H
BEGIN:VTIMEZONE
TZID:Europe/Berlin
BEGIN:DAYLIGHT
TZOFFSETFROM:+0100
TZOFFSETTO:+0200
TZNAME:CEST
DTSTART:20240331T010000
END:DAYLIGHT
BEGIN:STANDARD
TZOFFSETFROM:+0200
TZOFFSETTO:+0100
TZNAME:CET
DTSTART:20241027T010000
END:STANDARD
BEGIN:DAYLIGHT
TZOFFSETFROM:+0100
TZOFFSETTO:+0200
TZNAME:CEST
DTSTART:20250330T010000
END:DAYLIGHT
BEGIN:STANDARD
TZOFFSETFROM:+0200
TZOFFSETTO:+0100
TZNAME:CET
DTSTART:20251026T010000
END:STANDARD
BEGIN:DAYLIGHT
TZOFFSETFROM:+0100
TZOFFSETTO:+0200
TZNAME:CEST
DTSTART:20260329T010000
END:DAYLIGHT
BEGIN:STANDARD
TZOFFSETFROM:+0200
TZOFFSETTO:+0100
TZNAME:CET
DTSTART:20261025T010000
END:STANDARD
END:VTIMEZONE
BEGIN:VEVENT
DTSTART;TZID=Europe/Berlin:20250328T140000
DTEND;TZID=Europe/Berlin:20250328T160000
DTSTAMP:20260421T181857
CREATED:20241218T235241Z
LAST-MODIFIED:20250305T153943Z
UID:1043-1743170400-1743177600@alzheimer-altoetting.de
SUMMARY:Musikalischer Nachmittag
DESCRIPTION:Einmal im Monat\nals pflegende(r) Angehörige(r) mit dem Partner\neine schöne Zeit\nin zwangloser Atmosphäre verbringen?\n  \nDann sind Sie beim musikalischen Nachmittag genau richtig!\n  \nInteressierte sind herzlich eingeladen.\nVon 14:00 bis 16:00 Uhr\nHerzog-Arnulf-Str. 8\n84503 Altötting\n  \nBitte um Anmeldung bei Frau Maria Lehner\nTel. 08671 4883 oder ml@alzheimer-altoetting.de\n(wegen Bereitstellung von genügend Noten).
URL:https://alzheimer-altoetting.de/event/_copy_-musikalischer-nachmittag-3/
LOCATION:Herzog-Arnulf-Straße 8 – Altötting\, Herzog Arnulfstr. 8\, Altötting\, Bayern\, 84503\, Deutschland
CATEGORIES:Musikalischer Nachmittag
ATTACH;FMTTYPE=image/jpeg:https://alzheimer-altoetting.de/wp-content/uploads/2024/05/termin_musikabend.jpg
END:VEVENT
BEGIN:VEVENT
DTSTART;TZID=Europe/Berlin:20250328T183000
DTEND;TZID=Europe/Berlin:20250328T200000
DTSTAMP:20260421T181857
CREATED:20250206T104309Z
LAST-MODIFIED:20250225T105519Z
UID:1099-1743186600-1743192000@alzheimer-altoetting.de
SUMMARY:Vortrag über Demenz VdK
DESCRIPTION:Viele von uns haben Familienangehörige\, bei denen man eine Demenz\nlangfristig befürchten muss.\nWie erkennt man denn erste Anzeichen?\nWie verhalte ich mich \,um den\nAngehörigen nicht zusätzlich zu verunsichern?\nWelche Hilfsangebote\nkann ich in Anspruch nehmen?\nFrau Maria Lehner\n1. Vorsitzende der Alzheimer Gesellschaft Landkreis Altötting e. V.\nberichtet über die regionalen Aktivitäten und Hilfsangebote\ndes Vereins\nfür Menschen mit Demenz\nund ihren Angehörigen.\nIn ihrem Vortrag geht es\nvor allem\num den täglichen Umgang mit Demenz.\n  \nEintritt kostenlos\nauch für Nicht-Mitglieder \n\nOrt: Pallauf Wirt Neuötting\nAlter Stadtberg 15\n84524 Neuötting\n  \nHier klicken für den Flyer des vdk\n  \n 
URL:https://alzheimer-altoetting.de/event/vortrag-demenz-vdk-ortsgruppe-neuoetting/
LOCATION:Gasthaus Pallauf
CATEGORIES:Vortrag
ATTACH;FMTTYPE=image/png:https://alzheimer-altoetting.de/wp-content/uploads/2025/02/Demenzvortrag-vdk-Maerz-2025-Ausschnitt.png
END:VEVENT
END:VCALENDAR