BEGIN:VCALENDAR
VERSION:2.0
PRODID:-//Alzheimer Gesellschaft Landkreis Altötting e. V. Selbsthilfe Demenz - ECPv6.15.20//NONSGML v1.0//EN
CALSCALE:GREGORIAN
METHOD:PUBLISH
X-ORIGINAL-URL:https://alzheimer-altoetting.de
X-WR-CALDESC:Veranstaltungen für Alzheimer Gesellschaft Landkreis Altötting e. V. Selbsthilfe Demenz
REFRESH-INTERVAL;VALUE=DURATION:PT1H
X-Robots-Tag:noindex
X-PUBLISHED-TTL:PT1H
BEGIN:VTIMEZONE
TZID:Europe/Berlin
BEGIN:DAYLIGHT
TZOFFSETFROM:+0100
TZOFFSETTO:+0200
TZNAME:CEST
DTSTART:20230326T010000
END:DAYLIGHT
BEGIN:STANDARD
TZOFFSETFROM:+0200
TZOFFSETTO:+0100
TZNAME:CET
DTSTART:20231029T010000
END:STANDARD
BEGIN:DAYLIGHT
TZOFFSETFROM:+0100
TZOFFSETTO:+0200
TZNAME:CEST
DTSTART:20240331T010000
END:DAYLIGHT
BEGIN:STANDARD
TZOFFSETFROM:+0200
TZOFFSETTO:+0100
TZNAME:CET
DTSTART:20241027T010000
END:STANDARD
BEGIN:DAYLIGHT
TZOFFSETFROM:+0100
TZOFFSETTO:+0200
TZNAME:CEST
DTSTART:20250330T010000
END:DAYLIGHT
BEGIN:STANDARD
TZOFFSETFROM:+0200
TZOFFSETTO:+0100
TZNAME:CET
DTSTART:20251026T010000
END:STANDARD
END:VTIMEZONE
BEGIN:VEVENT
DTSTART;TZID=Europe/Berlin:20240504T090000
DTEND;TZID=Europe/Berlin:20240504T163000
DTSTAMP:20260422T115634
CREATED:20240415T125240Z
LAST-MODIFIED:20240930T123739Z
UID:404-1714813200-1714840200@alzheimer-altoetting.de
SUMMARY:Helferkreisschulung - Teil 1
DESCRIPTION:Die Schulung bereitet auf das ehrenamtliche und nicht ehrenamtliche Erbringen von Leistungen gemäß §45a SGB XI im Rahmen verschiedener Angebote zur Unterstützung im Alltag vor und umfasst 30 UE. \nDas Konzept basiert auf den Empfehlungen des GKV-Spitzenverbandes und des Verbandes der Privaten Krankenversicherungen. \nReferentin: Frau Bürk \nWann? 9:00 Uhr bis ca. 16:30 Uhr\nWo? Herzog-Arnulf-Straße 8 – Altötting \nAnmeldung und nähere Auskünfte bei Fr. Lehner unter Tel. 08671 – 4883 und 08671 – 9849410 (AB)
URL:https://alzheimer-altoetting.de/event/helferkreisschulung-tag-1/
LOCATION:Herzog-Arnulf-Straße 8 – Altötting\, Herzog Arnulfstr. 8\, Altötting\, Bayern\, 84503\, Deutschland
CATEGORIES:Kurse
ATTACH;FMTTYPE=image/jpeg:https://alzheimer-altoetting.de/wp-content/uploads/2024/09/termin_helfer_255.jpg
END:VEVENT
BEGIN:VEVENT
DTSTART;TZID=Europe/Berlin:20240507T100000
DTEND;TZID=Europe/Berlin:20240507T180000
DTSTAMP:20260422T115634
CREATED:20240506T174055Z
LAST-MODIFIED:20240530T204731Z
UID:526-1715076000-1715104800@alzheimer-altoetting.de
SUMMARY:Fahrt nach Straubing
DESCRIPTION:Abfahrt: 10:00 Uhr \nAbfahrtsort: Busbahnhof am Bahnhof Altötting \nRückkehr: voraussichtlich 18 Uhr am Bahnhof Altötting \nAuch Nichtmitglieder sind herzlich willkommen. \nUnkostenbeitrag für Nichtmitglieder 15 Euro (Busfahrt) \nFür Mitglieder ist die Busfahrt kostenlos. \n* * * \nNach der Ankunft in Straubing (ca. 11:30 Uhr) können wir die schöne Stadt an der Donau auf eigene Faust erkunden und haben beim Besuch eines Spargelhofes (Abfahrt von Straubing ca. 15 Uhr) die Möglichkeit\, frischen Spargel einzukaufen. \n  \nWeitere Infos und Anmeldung unter 08671 / 4883 (Frau Lehner)
URL:https://alzheimer-altoetting.de/event/fahrt-nach-straubing/
LOCATION:Bayern
END:VEVENT
BEGIN:VEVENT
DTSTART;TZID=Europe/Berlin:20240511T090000
DTEND;TZID=Europe/Berlin:20240511T163000
DTSTAMP:20260422T115634
CREATED:20240415T125433Z
LAST-MODIFIED:20240930T123713Z
UID:407-1715418000-1715445000@alzheimer-altoetting.de
SUMMARY:Helferkreisschulung - Teil 2
DESCRIPTION:Die Schulung bereitet auf das ehrenamtliche und nicht ehrenamtliche Erbringen von Leistungen gemäß §45a SGB XI im Rahmen verschiedener Angebote zur Unterstützung im Alltag vor und umfasst 30 UE. \nDas Konzept basiert auf den Empfehlungen des GKV-Spitzenverbandes und des Verbandes der Privaten Krankenversicherungen. \nReferentin: Frau Bürk \nWann? 9:00 Uhr bis ca. 16:30 Uhr\nWo? Herzog-Arnulf-Straße 8 – Altötting \nAnmeldung und nähere Auskünfte bei Fr. Lehner unter Tel. 08671 – 4883
URL:https://alzheimer-altoetting.de/event/helferkreisschulung-tag-2/
LOCATION:Herzog-Arnulf-Straße 8 – Altötting\, Herzog Arnulfstr. 8\, Altötting\, Bayern\, 84503\, Deutschland
CATEGORIES:Kurse
ATTACH;FMTTYPE=image/jpeg:https://alzheimer-altoetting.de/wp-content/uploads/2024/09/termin_helfer_255.jpg
END:VEVENT
BEGIN:VEVENT
DTSTART;TZID=Europe/Berlin:20240517T140000
DTEND;TZID=Europe/Berlin:20240517T160000
DTSTAMP:20260422T115634
CREATED:20240530T084443Z
LAST-MODIFIED:20240530T084443Z
UID:653-1715954400-1715961600@alzheimer-altoetting.de
SUMMARY:Kreativer Nachmittag
DESCRIPTION:Angehörige und Interessierte sind herzlich eingeladen. \nWieder bringt Helga Mitterer neue Ideen mit. \nDas Material wird gestellt. \nAnmeldung bei Fr. Lehner Tel. 08671 – 4883
URL:https://alzheimer-altoetting.de/event/kreativer-nachmittag-2/
LOCATION:Aufenthaltsraum Betreutes Wohnen\, Herzog Arnulfstr. 8\, Altötting\, Bayern\, 84503\, Deutschland
CATEGORIES:Kreativer Nachmittag
END:VEVENT
BEGIN:VEVENT
DTSTART;TZID=Europe/Berlin:20240518T090000
DTEND;TZID=Europe/Berlin:20240518T163000
DTSTAMP:20260422T115634
CREATED:20240415T125512Z
LAST-MODIFIED:20240930T123642Z
UID:409-1716022800-1716049800@alzheimer-altoetting.de
SUMMARY:Helferkreisschulung - Teil 3
DESCRIPTION:Die Schulung bereitet auf das ehrenamtliche und nicht ehrenamtliche Erbringen von Leistungen gemäß §45a SGB XI im Rahmen verschiedener Angebote zur Unterstützung im Alltag vor und umfasst 30 UE. \nDas Konzept basiert auf den Empfehlungen des GKV-Spitzenverbandes und des Verbandes der Privaten Krankenversicherungen. \nReferentin: Frau Bürk \nWann? 9:00 Uhr bis ca. 16:30 Uhr\nWo? Herzog-Arnulf-Straße 8 – Altötting \nAnmeldung und nähere Auskünfte bei Fr. Lehner unter Tel. 08671 – 4883
URL:https://alzheimer-altoetting.de/event/helferkreisschulung-tag-3/
LOCATION:Herzog-Arnulf-Straße 8 – Altötting\, Herzog Arnulfstr. 8\, Altötting\, Bayern\, 84503\, Deutschland
CATEGORIES:Kurse
ATTACH;FMTTYPE=image/jpeg:https://alzheimer-altoetting.de/wp-content/uploads/2024/09/termin_helfer_255.jpg
END:VEVENT
END:VCALENDAR