BEGIN:VCALENDAR
VERSION:2.0
PRODID:-//Alzheimer Gesellschaft Landkreis Altötting e. V. Selbsthilfe Demenz - ECPv6.15.20//NONSGML v1.0//EN
CALSCALE:GREGORIAN
METHOD:PUBLISH
X-WR-CALNAME:Alzheimer Gesellschaft Landkreis Altötting e. V. Selbsthilfe Demenz
X-ORIGINAL-URL:https://alzheimer-altoetting.de
X-WR-CALDESC:Veranstaltungen für Alzheimer Gesellschaft Landkreis Altötting e. V. Selbsthilfe Demenz
REFRESH-INTERVAL;VALUE=DURATION:PT1H
X-Robots-Tag:noindex
X-PUBLISHED-TTL:PT1H
BEGIN:VTIMEZONE
TZID:Europe/Berlin
BEGIN:DAYLIGHT
TZOFFSETFROM:+0100
TZOFFSETTO:+0200
TZNAME:CEST
DTSTART:20230326T010000
END:DAYLIGHT
BEGIN:STANDARD
TZOFFSETFROM:+0200
TZOFFSETTO:+0100
TZNAME:CET
DTSTART:20231029T010000
END:STANDARD
BEGIN:DAYLIGHT
TZOFFSETFROM:+0100
TZOFFSETTO:+0200
TZNAME:CEST
DTSTART:20240331T010000
END:DAYLIGHT
BEGIN:STANDARD
TZOFFSETFROM:+0200
TZOFFSETTO:+0100
TZNAME:CET
DTSTART:20241027T010000
END:STANDARD
BEGIN:DAYLIGHT
TZOFFSETFROM:+0100
TZOFFSETTO:+0200
TZNAME:CEST
DTSTART:20250330T010000
END:DAYLIGHT
BEGIN:STANDARD
TZOFFSETFROM:+0200
TZOFFSETTO:+0100
TZNAME:CET
DTSTART:20251026T010000
END:STANDARD
END:VTIMEZONE
BEGIN:VEVENT
DTSTART;TZID=Europe/Berlin:20240601T090000
DTEND;TZID=Europe/Berlin:20240601T163000
DTSTAMP:20260422T095835
CREATED:20240415T125556Z
LAST-MODIFIED:20240930T123552Z
UID:411-1717232400-1717259400@alzheimer-altoetting.de
SUMMARY:Helferkreisschulung - Teil 4
DESCRIPTION:Die Schulung bereitet auf das ehrenamtliche und nicht ehrenamtliche Erbringen von Leistungen gemäß §45a SGB XI im Rahmen verschiedener Angebote zur Unterstützung im Alltag vor und umfasst 30 UE. \nDas Konzept basiert auf den Empfehlungen des GKV-Spitzenverbandes und des Verbandes der Privaten Krankenversicherungen. \nWann? 9:00 Uhr bis ca. 16:30 Uhr\nWo? Herzog-Arnulf-Straße 8 – Altötting \nAnmeldung und nähere Auskünfte bei Fr. Lehner unter Tel. 08671 – 4883
URL:https://alzheimer-altoetting.de/event/helferkreisschulung-tag-4/
LOCATION:Herzog-Arnulf-Straße 8 – Altötting\, Herzog Arnulfstr. 8\, Altötting\, Bayern\, 84503\, Deutschland
CATEGORIES:Kurse
ATTACH;FMTTYPE=image/jpeg:https://alzheimer-altoetting.de/wp-content/uploads/2024/09/termin_helfer_255.jpg
END:VEVENT
BEGIN:VEVENT
DTSTART;TZID=Europe/Berlin:20240604T100000
DTEND;TZID=Europe/Berlin:20240604T180000
DTSTAMP:20260422T095835
CREATED:20240515T125051Z
LAST-MODIFIED:20240515T171507Z
UID:543-1717495200-1717524000@alzheimer-altoetting.de
SUMMARY:Tagesausflug nach Bad Reichenhall
DESCRIPTION:Die Alzheimer Gesellschaft Landkreis Altötting e.V. lädt herzlich ein zu einem \nTagesausflug nach Bad Reichenhall\nam Dienstag\, den 04.06.2024 \n10:00 Uhr Abfahrt Bahnhof Altötting\nca. 10:10 Uhr Abfahrt Klaraheim \n16:30 Uhr Rückfahrt nach Altötting\nca. 18:00 Uhr Ankunft am Bahnhof in Altötting \nMitglieder der Alzheimer Gesellschaft Landkreis Altötting e. V. fahren kostenlos mit.\nNichtmitglieder sind stets willkommen: Unkostenbeitrag von 15 € für die Busfahrt. \nInformationen und Anmeldung bei Maria Lehner\n08671 / 4883\noder 08671 / 9849410 (bitte auf den AB sprechen) \n 
URL:https://alzheimer-altoetting.de/event/tagesausflug-nach-bad-reichenhall/
LOCATION:Bayern
ATTACH;FMTTYPE=image/jpeg:https://alzheimer-altoetting.de/wp-content/uploads/2024/05/reichenhall.jpg
END:VEVENT
BEGIN:VEVENT
DTSTART;TZID=Europe/Berlin:20240625T140000
DTEND;TZID=Europe/Berlin:20240625T160000
DTSTAMP:20260422T095835
CREATED:20240530T082018Z
LAST-MODIFIED:20240530T083320Z
UID:637-1719324000-1719331200@alzheimer-altoetting.de
SUMMARY:Angehörigentreffen mit Betreuungsgruppe
DESCRIPTION:Beim Angehörigentreffen haben Sie die Möglichkeit\, sich untereinander auszutauschen\, praktische Tipps für den Betreuungsalltag zu erhalten\, aber auch eigene Erfahrungen weiter zu geben. \nZeitgleich findet stets die Betreuungsgruppe statt. \nBeide Gruppen werden von erfahrenen Fachkräften geleitet.\nInteressierte sind dazu herzlichst eingeladen. \nAnmeldung bei Frau Lehner \nTel. 08671-984 9410 oder 08671-4883\nEmail ml@alzheimer-altoetting.de
URL:https://alzheimer-altoetting.de/event/angehoerigentreffen-3/
LOCATION:Herzog-Arnulf-Straße 8 – Altötting\, Herzog Arnulfstr. 8\, Altötting\, Bayern\, 84503\, Deutschland
CATEGORIES:Angehörigentreffen
ATTACH;FMTTYPE=image/jpeg:https://alzheimer-altoetting.de/wp-content/uploads/2024/05/termin_treffen.jpg
END:VEVENT
BEGIN:VEVENT
DTSTART;TZID=Europe/Berlin:20240628T140000
DTEND;TZID=Europe/Berlin:20240628T160000
DTSTAMP:20260422T095835
CREATED:20240530T074921Z
LAST-MODIFIED:20240530T083313Z
UID:621-1719583200-1719590400@alzheimer-altoetting.de
SUMMARY:Musikalischer Nachmittag
DESCRIPTION:Einmal im Monat haben Sie als pflegende(r) Angehörige(r) mit Ihrem betroffenen Partner die Gelegenheit\, eine schöne Zeit miteinander in einer zwanglosen Atmosphäre zu verbringen. \nInteressierte sind herzlich eingeladen.\nVon 14:00 bis 16:00 Uhr\nHerzog-Arnulf-Str. 8\n84503 Altötting \nBitte melden Sie sich dazu telefonisch bei M. Lehner unter Tel. 08671 4883 an.
URL:https://alzheimer-altoetting.de/event/musikalischer-nachmittag/
LOCATION:Herzog-Arnulf-Straße 8 – Altötting\, Herzog Arnulfstr. 8\, Altötting\, Bayern\, 84503\, Deutschland
CATEGORIES:Musikalischer Nachmittag
ATTACH;FMTTYPE=image/jpeg:https://alzheimer-altoetting.de/wp-content/uploads/2024/05/termin_musikabend.jpg
END:VEVENT
END:VCALENDAR