BEGIN:VCALENDAR
VERSION:2.0
PRODID:-//Alzheimer Gesellschaft Landkreis Altötting e. V. Selbsthilfe Demenz - ECPv6.15.20//NONSGML v1.0//EN
CALSCALE:GREGORIAN
METHOD:PUBLISH
X-ORIGINAL-URL:https://alzheimer-altoetting.de
X-WR-CALDESC:Veranstaltungen für Alzheimer Gesellschaft Landkreis Altötting e. V. Selbsthilfe Demenz
REFRESH-INTERVAL;VALUE=DURATION:PT1H
X-Robots-Tag:noindex
X-PUBLISHED-TTL:PT1H
BEGIN:VTIMEZONE
TZID:Europe/Berlin
BEGIN:DAYLIGHT
TZOFFSETFROM:+0100
TZOFFSETTO:+0200
TZNAME:CEST
DTSTART:20250330T010000
END:DAYLIGHT
BEGIN:STANDARD
TZOFFSETFROM:+0200
TZOFFSETTO:+0100
TZNAME:CET
DTSTART:20251026T010000
END:STANDARD
BEGIN:DAYLIGHT
TZOFFSETFROM:+0100
TZOFFSETTO:+0200
TZNAME:CEST
DTSTART:20260329T010000
END:DAYLIGHT
BEGIN:STANDARD
TZOFFSETFROM:+0200
TZOFFSETTO:+0100
TZNAME:CET
DTSTART:20261025T010000
END:STANDARD
BEGIN:DAYLIGHT
TZOFFSETFROM:+0100
TZOFFSETTO:+0200
TZNAME:CEST
DTSTART:20270328T010000
END:DAYLIGHT
BEGIN:STANDARD
TZOFFSETFROM:+0200
TZOFFSETTO:+0100
TZNAME:CET
DTSTART:20271031T010000
END:STANDARD
END:VTIMEZONE
BEGIN:VEVENT
DTSTART;TZID=Europe/Berlin:20260722T180000
DTEND;TZID=Europe/Berlin:20260722T200000
DTSTAMP:20260420T011808
CREATED:20260228T115507Z
LAST-MODIFIED:20260228T120433Z
UID:1738-1784743200-1784750400@alzheimer-altoetting.de
SUMMARY:Mitgliederversammlung mit Neu-Wahlen des Vorstandes
DESCRIPTION:Am 22. Juli um 18:00 findet die Jahres-Hauptversammlung mit Neu-Wahlen des Vorstandes im Gasthaus Plankl statt. \nAlle Mitglieder werden fristgerecht über Tagesordnung und bis dahin feststehende Kandidierende für den Vorstand informiert.
URL:https://alzheimer-altoetting.de/event/mitgliederversammlung-mit-neu-wahlen-des-vorstandes/
LOCATION:Gasthof Plankl Altötting\, Schlotthamerstraße 4\, Altötting\, 84543
CATEGORIES:Mitgliederversammlung
ATTACH;FMTTYPE=image/jpeg:https://alzheimer-altoetting.de/wp-content/uploads/2025/02/black-microphone-conference-room1-scaled.jpg
END:VEVENT
END:VCALENDAR